View In:
ArcGIS JavaScript
ArcGIS Online Map Viewer
ArcGIS Earth
ArcMap
View Footprint In:
ArcGIS Online Map Viewer
Service Description: LiDAR2024_feet
Name: LiDAR2024_feet
Description:
Single Fused Map Cache: false
Extent:
XMin: 3087340.4171285015
YMin: 1.3736608015872248E7
XMax: 3178303.161722852
YMax: 1.3790290651295416E7
Spatial Reference: 102740
(2278)
Initial Extent:
XMin: 3087340.4171285015
YMin: 1.3736608015872248E7
XMax: 3178303.161722852
YMax: 1.3790290651295416E7
Spatial Reference: 102740
(2278)
Full Extent:
XMin: 3087340.4171285015
YMin: 1.3736608015872248E7
XMax: 3178303.161722852
YMax: 1.3790290651295416E7
Spatial Reference: 102740
(2278)
Pixel Size X: 1.6404166668653488
Pixel Size Y: 1.6404166668653488
Band Count: 1
Pixel Type: F32
RasterFunction Infos: {"rasterFunctionInfos": [{
"name": "None",
"description": "",
"help": ""
}]}
Mensuration Capabilities: Basic
Has Histograms: true
Has Colormap: false
Has Multi Dimensions : false
Rendering Rule:
Min Scale: 0
Max Scale: 0
Copyright Text:
Service Data Type: esriImageServiceDataTypeGeneric
Min Values: 0.5831107497215271
Max Values: 189.2037353515625
Mean Values: 49.98675310762938
Standard Deviation Values: 12.050816240786073
Object ID Field:
Fields:
None
Default Mosaic Method: Center
Allowed Mosaic Methods:
SortField:
SortValue: null
Mosaic Operator: First
Default Compression Quality: 75
Default Resampling Method: Bilinear
Max Record Count: null
Max Image Height: 4100
Max Image Width: 15000
Max Download Image Count: null
Max Mosaic Image Count: null
Allow Raster Function: true
Allow Copy: true
Allow Analysis: true
Allow Compute TiePoints: false
Supports Statistics: false
Supports Advanced Queries: false
Use StandardizedQueries: true
Raster Type Infos:
Name: Raster Dataset
Description: Supports all ArcGIS Raster Datasets
Help:
Has Raster Attribute Table: false
Edit Fields Info: null
Ownership Based AccessControl For Rasters: null
Child Resources:
Info
Histograms
Statistics
Key Properties
Legend
Raster Function Infos
Supported Operations:
Export Image
Identify
Measure
Compute Histograms
Compute Statistics Histograms
Get Samples
Compute Class Statistics
Query Boundary
Compute Pixel Location
Compute Angles
Validate
Project