{
 "currentVersion": 10.91,
 "serviceDescription": "LiDAR/Hillshade_2018",
 "name": "LiDAR/Hillshade_2018",
 "description": "",
 "extent": {
  "xmin": 262137,
  "ymin": 3265385,
  "xmax": 286644,
  "ymax": 3278034,
  "spatialReference": {
   "wkid": 102384,
   "latestWkid": 6344
  }
 },
 "initialExtent": {
  "xmin": 262137,
  "ymin": 3265385,
  "xmax": 286644,
  "ymax": 3278034,
  "spatialReference": {
   "wkid": 102384,
   "latestWkid": 6344
  }
 },
 "fullExtent": {
  "xmin": 262137,
  "ymin": 3265385,
  "xmax": 286644,
  "ymax": 3278034,
  "spatialReference": {
   "wkid": 102384,
   "latestWkid": 6344
  }
 },
 "hasMultidimensions": false,
 "pixelSizeX": 1,
 "pixelSizeY": 1,
 "datasetFormat": "SDR",
 "uncompressedSize": 309989043,
 "blockWidth": 128,
 "blockHeight": 128,
 "compressionType": "LZ77",
 "bandNames": [
  "Band_1"
 ],
 "allowCopy": true,
 "allowAnalysis": true,
 "bandCount": 1,
 "pixelType": "U8",
 "minPixelSize": 0,
 "maxPixelSize": 0,
 "copyrightText": "",
 "serviceDataType": "esriImageServiceDataTypeGeneric",
 "serviceSourceType": "esriImageServiceSourceTypeDataset",
 "minValues": [
  0
 ],
 "maxValues": [
  254
 ],
 "meanValues": [
  176.5356629998304
 ],
 "stdvValues": [
  24.428135203434753
 ],
 "objectIdField": "",
 "fields": [],
 "capabilities": "Image,Metadata,Pixels,Mensuration",
 "defaultMosaicMethod": "Center",
 "allowedMosaicMethods": "",
 "sortField": "",
 "sortValue": null,
 "sortAscending": true,
 "mosaicOperator": "First",
 "defaultCompressionQuality": 75,
 "defaultResamplingMethod": "Bilinear",
 "maxImageHeight": 4100,
 "maxImageWidth": 15000,
 "allowRasterFunction": true,
 "rasterFunctionInfos": [
  {
   "name": "None",
   "description": "",
   "help": ""
  }
 ],
 "rasterTypeInfos": [
  {
   "name": "Raster Dataset",
   "description": "Supports all ArcGIS Raster Datasets",
   "help": ""
  }
 ],
 "mensurationCapabilities": "Basic",
 "hasHistograms": true,
 "hasColormap": false,
 "hasRasterAttributeTable": true,
 "minScale": 0,
 "maxScale": 0,
 "exportTilesAllowed": false,
 "supportsStatistics": false,
 "supportsAdvancedQueries": false,
 "editFieldsInfo": null,
 "ownershipBasedAccessControlForRasters": null,
 "allowComputeTiePoints": false,
 "useStandardizedQueries": true,
 "advancedQueryCapabilities": {
  "useStandardizedQueries": true,
  "supportsStatistics": false,
  "supportsOrderBy": false,
  "supportsDistinct": false,
  "supportsPagination": false
 },
 "spatialReference": {
  "wkid": 102384,
  "latestWkid": 6344
 }
}
